BEGIN:VCALENDAR
VERSION:2.0
PRODID:-//Schlitz Audubon Summer Camp - ECPv6.15.20//NONSGML v1.0//EN
CALSCALE:GREGORIAN
METHOD:PUBLISH
X-WR-CALNAME:Schlitz Audubon Summer Camp
X-ORIGINAL-URL:https://summercamp.schlitzaudubon.org
X-WR-CALDESC:Events for Schlitz Audubon Summer Camp
REFRESH-INTERVAL;VALUE=DURATION:PT1H
X-Robots-Tag:noindex
X-PUBLISHED-TTL:PT1H
BEGIN:VTIMEZONE
TZID:America/Chicago
BEGIN:DAYLIGHT
TZOFFSETFROM:-0600
TZOFFSETTO:-0500
TZNAME:CDT
DTSTART:20250309T080000
END:DAYLIGHT
BEGIN:STANDARD
TZOFFSETFROM:-0500
TZOFFSETTO:-0600
TZNAME:CST
DTSTART:20251102T070000
END:STANDARD
BEGIN:DAYLIGHT
TZOFFSETFROM:-0600
TZOFFSETTO:-0500
TZNAME:CDT
DTSTART:20260308T080000
END:DAYLIGHT
BEGIN:STANDARD
TZOFFSETFROM:-0500
TZOFFSETTO:-0600
TZNAME:CST
DTSTART:20261101T070000
END:STANDARD
BEGIN:DAYLIGHT
TZOFFSETFROM:-0600
TZOFFSETTO:-0500
TZNAME:CDT
DTSTART:20270314T080000
END:DAYLIGHT
BEGIN:STANDARD
TZOFFSETFROM:-0500
TZOFFSETTO:-0600
TZNAME:CST
DTSTART:20271107T070000
END:STANDARD
END:VTIMEZONE
BEGIN:VEVENT
DTSTART;TZID=America/Chicago:20260706T090000
DTEND;TZID=America/Chicago:20260710T120000
DTSTAMP:20260420T033529
CREATED:20260106T211355Z
LAST-MODIFIED:20260306T203146Z
UID:640-1783328400-1783684800@summercamp.schlitzaudubon.org
SUMMARY:Naturalist in Training
DESCRIPTION:In this immersive camp\, participants get a behind-the-scenes look at what it takes to be an Environmental Educator at a nature center. Campers will learn the basics of reptile handling and interpretation\, plant and animal identification\, kayaking\, and public speaking. They’ll also meet professionals working in the nature field and discover pathways to becoming a naturalist themselves. At the end of the week\, campers will put their new skills into action by leading their own interpretive nature hike for friends and family!  \nMembers $215 | Non-Members $250 
URL:https://summercamp.schlitzaudubon.org/event/naturalist-in-training/
LOCATION:Schlitz Audubon Nature Center\, 1111 E. Brown Deer Road\, Milwaukee\, WI\, 53217\, United States
CATEGORIES:Entering 6th - 8th Grade
END:VEVENT
BEGIN:VEVENT
DTSTART;TZID=America/Chicago:20260706T123000
DTEND;TZID=America/Chicago:20260710T153000
DTSTAMP:20260420T033529
CREATED:20260106T211355Z
LAST-MODIFIED:20260410T183325Z
UID:641-1783341000-1783697400@summercamp.schlitzaudubon.org
SUMMARY:Creature Care 101
DESCRIPTION:The Center is home to many animals that make up our Animal Ambassador Teaching Team\, including snakes\, turtles\, salamanders and more! Now you can experience first-hand what it takes to care for these animals\, and how we train them to interact with people. You will prepare diets\, clean enclosures\, and learn safe animal handling techniques. Your new skills will be put to the test as you are given the opportunity to teach the other camp groups\, and even your parents\, about these animals.  \nMembers $225 | Non-Members $260 
URL:https://summercamp.schlitzaudubon.org/event/creature-care-101/
LOCATION:Schlitz Audubon Nature Center\, 1111 E. Brown Deer Road\, Milwaukee\, WI\, 53217\, United States
CATEGORIES:Entering 6th - 8th Grade
END:VEVENT
BEGIN:VEVENT
DTSTART;TZID=America/Chicago:20260713T123000
DTEND;TZID=America/Chicago:20260717T153000
DTSTAMP:20260420T033529
CREATED:20260106T211354Z
LAST-MODIFIED:20260306T203158Z
UID:642-1783945800-1784302200@summercamp.schlitzaudubon.org
SUMMARY:Working with Wildlife
DESCRIPTION:Calling all critter and nature enthusiasts! Ever dream of working with animals? This week\, we’ll explore careers that let you care for animals and protect the natural environments they call home. Spend time with some of the Center’s Animal Ambassadors\, learn about schooling and career paths\, practice team building with fellow animal lovers\, and so much more.  \nMembers $225 | Non-Members $260 
URL:https://summercamp.schlitzaudubon.org/event/working-with-wildlife/
LOCATION:Schlitz Audubon Nature Center\, 1111 E. Brown Deer Road\, Milwaukee\, WI\, 53217\, United States
CATEGORIES:Entering 6th - 8th Grade
END:VEVENT
BEGIN:VEVENT
DTSTART;TZID=America/Chicago:20260803T090000
DTEND;TZID=America/Chicago:20260807T120000
DTSTAMP:20260420T033529
CREATED:20260106T211351Z
LAST-MODIFIED:20260410T183341Z
UID:643-1785747600-1786104000@summercamp.schlitzaudubon.org
SUMMARY:Wilderness Survivors
DESCRIPTION:What skills does it take to survive in the wilderness? Practice fire building\, shelter construction\, and a variety of other outdoor survival skills. From beach to forest\, you’ll gain the expertise needed to survive in a variety of environments.  \nMembers $215 | Non-Members $250 
URL:https://summercamp.schlitzaudubon.org/event/wilderness-survivors/
LOCATION:Schlitz Audubon Nature Center\, 1111 E. Brown Deer Road\, Milwaukee\, WI\, 53217\, United States
CATEGORIES:Entering 6th - 8th Grade
END:VEVENT
BEGIN:VEVENT
DTSTART;TZID=America/Chicago:20260810T123000
DTEND;TZID=America/Chicago:20260814T153000
DTSTAMP:20260420T033529
CREATED:20260106T211350Z
LAST-MODIFIED:20260306T203217Z
UID:644-1786365000-1786721400@summercamp.schlitzaudubon.org
SUMMARY:Audubon Quest
DESCRIPTION:Enter a Dungeons & Dragons–inspired adventure set in the enchanted realm of Audubon! Choose your character\, discover the magic hidden in nature\, and level up as you gain new skills. Each day you’ll collect clues\, uncover secrets\, and prepare for an epic final quest at the end of the week.  \nMembers $215 | Non-Members $250 
URL:https://summercamp.schlitzaudubon.org/event/audubon-quest/
LOCATION:Schlitz Audubon Nature Center\, 1111 E. Brown Deer Road\, Milwaukee\, WI\, 53217\, United States
CATEGORIES:Entering 6th - 8th Grade
END:VEVENT
END:VCALENDAR